BEGIN:VCALENDAR
VERSION:2.0
PRODID:-//Matthias Zeitler - ECPv6.15.17.1//NONSGML v1.0//EN
CALSCALE:GREGORIAN
METHOD:PUBLISH
X-ORIGINAL-URL:https://matthiaszeitler.de
X-WR-CALDESC:Veranstaltungen für Matthias Zeitler
REFRESH-INTERVAL;VALUE=DURATION:PT1H
X-Robots-Tag:noindex
X-PUBLISHED-TTL:PT1H
BEGIN:VTIMEZONE
TZID:Europe/Berlin
BEGIN:DAYLIGHT
TZOFFSETFROM:+0100
TZOFFSETTO:+0200
TZNAME:CEST
DTSTART:20250330T010000
END:DAYLIGHT
BEGIN:STANDARD
TZOFFSETFROM:+0200
TZOFFSETTO:+0100
TZNAME:CET
DTSTART:20251026T010000
END:STANDARD
BEGIN:DAYLIGHT
TZOFFSETFROM:+0100
TZOFFSETTO:+0200
TZNAME:CEST
DTSTART:20260329T010000
END:DAYLIGHT
BEGIN:STANDARD
TZOFFSETFROM:+0200
TZOFFSETTO:+0100
TZNAME:CET
DTSTART:20261025T010000
END:STANDARD
BEGIN:DAYLIGHT
TZOFFSETFROM:+0100
TZOFFSETTO:+0200
TZNAME:CEST
DTSTART:20270328T010000
END:DAYLIGHT
BEGIN:STANDARD
TZOFFSETFROM:+0200
TZOFFSETTO:+0100
TZNAME:CET
DTSTART:20271031T010000
END:STANDARD
END:VTIMEZONE
BEGIN:VEVENT
DTSTART;TZID=Europe/Berlin:20260608T183000
DTEND;TZID=Europe/Berlin:20260608T200000
DTSTAMP:20260420T113516
CREATED:20251118T145009Z
LAST-MODIFIED:20260303T155722Z
UID:253295-1780943400-1780948800@matthiaszeitler.de
SUMMARY:Heilbronn
DESCRIPTION:Wenn Schule stresst! STAND-UP-LESUNG \nDie Stand-Up-Lesung von „Wenn Schule stresst“ ist eine Mischung aus Lesung\, bildungspolitischer Diskussion und Comedy. Mit fundierten Einblicken in das heutige Bildungssystem\, praktischen Tipps zur Stressbewältigung und konkreten Strategien zur Selbstregulation\, zur Stärkung des Selbstwerts\, der Lernmotivation und Resilienz\, gibt Matthias Zeitler Orientierung und Hoffnung – für alle\, die Kinder nicht auf Leistung reduzieren\, sondern in ihrer individuellen Entwicklung begleiten möchten. \nDa Matthias Zeitler immer spontan auf die Fragen und individuellen Herausforderungen des Publikums mit dem Schulsystem eingeht\, wird jeder Abend anders und einzigartig. Das Einzige\, was gleichbleibt: Der Fokus auf die Jugendlichen\, auf den Perspektivwechsel und die Beziehungsarbeit – mit ganz viel Wertschätzung und Humor. \nTrailer: https://youtu.be/cTiX3pxGqEI?si=pxIAzkOoUnBaYVaJ \nTickets hier \nEintritt: frei
URL:https://matthiaszeitler.de/veranstaltung/253295/
LOCATION:Literaturhaus Heilbronn
CATEGORIES:Wenn Schule stresst Lesetour
END:VEVENT
END:VCALENDAR