BEGIN:VCALENDAR
VERSION:2.0
PRODID:-//Matthias Zeitler - ECPv6.15.17.1//NONSGML v1.0//EN
CALSCALE:GREGORIAN
METHOD:PUBLISH
X-ORIGINAL-URL:https://matthiaszeitler.de
X-WR-CALDESC:Veranstaltungen für Matthias Zeitler
REFRESH-INTERVAL;VALUE=DURATION:PT1H
X-Robots-Tag:noindex
X-PUBLISHED-TTL:PT1H
BEGIN:VTIMEZONE
TZID:Europe/Berlin
BEGIN:DAYLIGHT
TZOFFSETFROM:+0100
TZOFFSETTO:+0200
TZNAME:CEST
DTSTART:20230326T010000
END:DAYLIGHT
BEGIN:STANDARD
TZOFFSETFROM:+0200
TZOFFSETTO:+0100
TZNAME:CET
DTSTART:20231029T010000
END:STANDARD
BEGIN:DAYLIGHT
TZOFFSETFROM:+0100
TZOFFSETTO:+0200
TZNAME:CEST
DTSTART:20240331T010000
END:DAYLIGHT
BEGIN:STANDARD
TZOFFSETFROM:+0200
TZOFFSETTO:+0100
TZNAME:CET
DTSTART:20241027T010000
END:STANDARD
BEGIN:DAYLIGHT
TZOFFSETFROM:+0100
TZOFFSETTO:+0200
TZNAME:CEST
DTSTART:20250330T010000
END:DAYLIGHT
BEGIN:STANDARD
TZOFFSETFROM:+0200
TZOFFSETTO:+0100
TZNAME:CET
DTSTART:20251026T010000
END:STANDARD
BEGIN:DAYLIGHT
TZOFFSETFROM:+0100
TZOFFSETTO:+0200
TZNAME:CEST
DTSTART:20260329T010000
END:DAYLIGHT
BEGIN:STANDARD
TZOFFSETFROM:+0200
TZOFFSETTO:+0100
TZNAME:CET
DTSTART:20261025T010000
END:STANDARD
BEGIN:DAYLIGHT
TZOFFSETFROM:+0100
TZOFFSETTO:+0200
TZNAME:CEST
DTSTART:20270328T010000
END:DAYLIGHT
BEGIN:STANDARD
TZOFFSETFROM:+0200
TZOFFSETTO:+0100
TZNAME:CET
DTSTART:20271031T010000
END:STANDARD
END:VTIMEZONE
BEGIN:VEVENT
DTSTART;TZID=Europe/Berlin:20260325T200000
DTEND;TZID=Europe/Berlin:20260325T213000
DTSTAMP:20260420T095625
CREATED:20250624T180506Z
LAST-MODIFIED:20260123T150116Z
UID:253248-1774468800-1774474200@matthiaszeitler.de
SUMMARY:Kornwestheim
DESCRIPTION:SCHULE BACKSTAGE! STAND-UP-LESUNG \nDie Stand-Up-Lesung von „Schule Backstage!“ ist eine Mischung aus Lesung\, bildungspolitischer Diskussion und Comedy. Matthias Zeitler nimmt das Publikum mit hinter die Kulissen des Schulalltags\, teilt Anekdoten und Erlebnisse aus seiner Zeit im Schulbetrieb und gibt Einblicke\, wie das Buch entstanden ist. Dabei geht es um all die Themen\, die in der Schule oft unausgesprochen bleiben – von lustigen Zwischenfällen bis hin zu ernsthaften Fragen über unser Bildungssystem. \nDa Matthias Zeitler immer spontan auf die Fragen und individuellen Herausforderungen des Publikums mit dem Schulsystem eingeht\, wird jeder Abend anders und einzigartig. Das Einzige\, was gleichbleibt: Der Fokus auf die Jugendlichen\, auf den Perspektivwechsel und die Beziehungsarbeit – mit ganz viel Wertschätzung und Humor. \nTrailer zur Lesung \nTickets hier\nEintritt: 10€ (ermäßigt 8€)
URL:https://matthiaszeitler.de/veranstaltung/kornwestheim/
LOCATION:Atrium der Stadtbücherei
CATEGORIES:Wenn Schule stresst Lesetour
END:VEVENT
BEGIN:VEVENT
DTSTART;TZID=Europe/Berlin:20260226T200000
DTEND;TZID=Europe/Berlin:20260226T220000
DTSTAMP:20260420T095625
CREATED:20240803T080051Z
LAST-MODIFIED:20260123T150105Z
UID:253065-1772136000-1772143200@matthiaszeitler.de
SUMMARY:Rutesheim
DESCRIPTION:Wenn Schule stresst! STAND-UP-LESUNG \nDie Stand-Up-Lesung von „Wenn Schule stresst“ ist eine Mischung aus Lesung\, bildungspolitischer Diskussion und Comedy. Mit fundierten Einblicken in das heutige Bildungssystem\, praktischen Tipps zur Stressbewältigung und konkreten Strategien zur Selbstregulation\, zur Stärkung des Selbstwerts\, der Lernmotivation und Resilienz\, gibt Matthias Zeitler Orientierung und Hoffnung – für alle\, die Kinder nicht auf Leistung reduzieren\, sondern in ihrer individuellen Entwicklung begleiten möchten. \nDa Matthias Zeitler immer spontan auf die Fragen und individuellen Herausforderungen des Publikums mit dem Schulsystem eingeht\, wird jeder Abend anders und einzigartig. Das Einzige\, was gleichbleibt: Der Fokus auf die Jugendlichen\, auf den Perspektivwechsel und die Beziehungsarbeit – mit ganz viel Wertschätzung und Humor. \nTrailer: https://youtu.be/cTiX3pxGqEI?si=pxIAzkOoUnBaYVaJ \nTickets per Mail: buecherei@rutesheim.de\nTickets per Telefon: 07152/905767\nEintritt: 8€
URL:https://matthiaszeitler.de/veranstaltung/schule-backstage-lesetour-rutesheim/
LOCATION:Christian-Wagner-Bücherei\, Deutschland
CATEGORIES:Wenn Schule stresst Lesetour
END:VEVENT
BEGIN:VEVENT
DTSTART;TZID=Europe/Berlin:20251029T190000
DTEND;TZID=Europe/Berlin:20251029T203000
DTSTAMP:20260420T095625
CREATED:20250715T125413Z
LAST-MODIFIED:20250715T125413Z
UID:253254-1761764400-1761769800@matthiaszeitler.de
SUMMARY:Krefeld
DESCRIPTION:SCHULE BACKSTAGE! STAND-UP-LESUNG \nDie Stand-Up-Lesung von „Schule Backstage!“ ist eine Mischung aus Lesung\, bildungspolitischer Diskussion und Comedy. Matthias Zeitler nimmt das Publikum mit hinter die Kulissen des Schulalltags\, teilt Anekdoten und Erlebnisse aus seiner Zeit im Schulbetrieb und gibt Einblicke\, wie das Buch entstanden ist. Dabei geht es um all die Themen\, die in der Schule oft unausgesprochen bleiben – von lustigen Zwischenfällen bis hin zu ernsthaften Fragen über unser Bildungssystem. \nDa Matthias Zeitler immer spontan auf die Fragen und individuellen Herausforderungen des Publikums mit dem Schulsystem eingeht\, wird jeder Abend anders und einzigartig. Das Einzige\, was gleichbleibt: Der Fokus auf die Jugendlichen\, auf den Perspektivwechsel und die Beziehungsarbeit – mit ganz viel Wertschätzung und Humor. \nTrailer zur Lesung \nAnmeldung hier\nEintritt: frei
URL:https://matthiaszeitler.de/veranstaltung/krefeld/
LOCATION:Mediothek
CATEGORIES:Schule Backstage Lesetour
END:VEVENT
BEGIN:VEVENT
DTSTART;TZID=Europe/Berlin:20250306T193000
DTEND;TZID=Europe/Berlin:20250306T213000
DTSTAMP:20260420T095625
CREATED:20240803T152241Z
LAST-MODIFIED:20250131T142010Z
UID:253098-1741289400-1741296600@matthiaszeitler.de
SUMMARY:Kamen
DESCRIPTION:SCHULE BACKSTAGE! STAND-UP-LESUNG \nDie Stand-Up-Lesung von „Schule Backstage!“ ist eine Mischung aus Lesung\, bildungspolitischer Diskussion und Comedy. Matthias Zeitler nimmt das Publikum mit hinter die Kulissen des Schulalltags\, teilt Anekdoten und Erlebnisse aus seiner Zeit im Schulbetrieb und gibt Einblicke\, wie das Buch entstanden ist. Dabei geht es um all die Themen\, die in der Schule oft unausgesprochen bleiben – von lustigen Zwischenfällen bis hin zu ernsthaften Fragen über unser Bildungssystem. \nDa Matthias Zeitler immer spontan auf die Fragen und individuellen Herausforderungen des Publikums mit dem Schulsystem eingeht\, wird jeder Abend anders und einzigartig. Das Einzige\, was gleichbleibt: Der Fokus auf die Jugendlichen\, auf den Perspektivwechsel und die Beziehungsarbeit – mit ganz viel Wertschätzung und Humor. \nTrailer zur Lesung: https://youtu.be/cTiX3pxGqEI?si=pxIAzkOoUnBaYVaJ \nTickets ausschließlich an der Abendkasse\nEintritt: 5€\nEinlass: 18:30
URL:https://matthiaszeitler.de/veranstaltung/kamen/
LOCATION:Studiobühne Gesamtschule
CATEGORIES:Schule Backstage Lesetour
END:VEVENT
BEGIN:VEVENT
DTSTART;TZID=Europe/Berlin:20241031T200000
DTEND;TZID=Europe/Berlin:20241031T220000
DTSTAMP:20260420T095625
CREATED:20240803T075730Z
LAST-MODIFIED:20240909T094054Z
UID:253062-1730404800-1730412000@matthiaszeitler.de
SUMMARY:Fürth
DESCRIPTION:SCHULE BACKSTAGE! LESUNG \nMatthias Zeitler\, Lehrer\, Podcaster\, Moderater\, Vater….Durch seinen pädagogischen Background als Hauptschullehrer beweist Matthias eine hohe Empathie\, vor allem gegenüber Kindern\, Jugendlichen und Familien. \nUnser Schulsystem ist auf Leistung ausgerichtet\, die Bedürfnisse von Schülerinnen und Schülern bleiben zwischen Hausaufgaben\, Notenvergabe und Lehrplänen häufig auf der Strecke. \nIn seinem neuen Buch »Schule BACKSTAGE!« zeigt Matthias Zeitler wie Eltern ihre Kinder hier unterstützen können. Dabei geht es ihm nicht um Leistung\, sondern um eine gute Beziehung. Wie stärken Eltern den Selbstwert ihres Teenagers? Wie können sie sich in der Schule einbringen und ein gutes Vorbild sein? Und auf welchem Weg können sie hierbei mit Lehrerinnen und Lehrern Hand in Hand gehen? Der Ratgeber hinterfragt unser Bild von Schule\, deckt die Nachteile des Leistungsdrucks auf und bietet Lösungen\, damit Jugendliche\, Eltern und Lehrkräfte ein starkes Team werden. \nTicket kaufen
URL:https://matthiaszeitler.de/veranstaltung/schule-backstage-lesetour-fuerth/
LOCATION:Innenstadtbibliothek
CATEGORIES:Schule Backstage Lesetour
END:VEVENT
END:VCALENDAR